BEGIN:VCALENDAR
VERSION:2.0
PRODID:-//La Maison des Praticiens - ECPv6.15.17.1//NONSGML v1.0//EN
CALSCALE:GREGORIAN
METHOD:PUBLISH
X-ORIGINAL-URL:https://www.lamaisondespraticiens.fr
X-WR-CALDESC:Évènements pour La Maison des Praticiens
REFRESH-INTERVAL;VALUE=DURATION:PT1H
X-Robots-Tag:noindex
X-PUBLISHED-TTL:PT1H
BEGIN:VTIMEZONE
TZID:Europe/Paris
BEGIN:DAYLIGHT
TZOFFSETFROM:+0100
TZOFFSETTO:+0200
TZNAME:CEST
DTSTART:20240331T010000
END:DAYLIGHT
BEGIN:STANDARD
TZOFFSETFROM:+0200
TZOFFSETTO:+0100
TZNAME:CET
DTSTART:20241027T010000
END:STANDARD
BEGIN:DAYLIGHT
TZOFFSETFROM:+0100
TZOFFSETTO:+0200
TZNAME:CEST
DTSTART:20250330T010000
END:DAYLIGHT
BEGIN:STANDARD
TZOFFSETFROM:+0200
TZOFFSETTO:+0100
TZNAME:CET
DTSTART:20251026T010000
END:STANDARD
BEGIN:DAYLIGHT
TZOFFSETFROM:+0100
TZOFFSETTO:+0200
TZNAME:CEST
DTSTART:20260329T010000
END:DAYLIGHT
BEGIN:STANDARD
TZOFFSETFROM:+0200
TZOFFSETTO:+0100
TZNAME:CET
DTSTART:20261025T010000
END:STANDARD
END:VTIMEZONE
BEGIN:VEVENT
DTSTART;TZID=Europe/Paris:20251001T163000
DTEND;TZID=Europe/Paris:20251001T171500
DTSTAMP:20260425T161735
CREATED:20250929T093105Z
LAST-MODIFIED:20251122T150754Z
UID:10000295-1759336200-1759338900@www.lamaisondespraticiens.fr
SUMMARY:Eveil musical – 3 à 6 ans
DESCRIPTION:Atelier d’Éveil Musical pour enfants : découverte\, jeux sonores et expression\n\nEt si la musique devenait le premier langage d’expression de votre enfant ?\nÀ La Maison des Praticiens\, nous vous proposons des séances d’éveil musical conçues pour stimuler la créativité\, favoriser l’expression et encourager la socialisation. \n🎵 Qu’est-ce que l’éveil musical ?\nL’éveil musical permet aux enfants de découvrir la musique sous toutes ses formes : voix\, sons\, instruments\, rythmes et mouvements. Bien plus qu’une simple activité ludique\, il s’agit d’un véritable outil de développement. En explorant des instruments variés et en chantant des comptines\, les enfants affinent leurs sens et s’ouvrent à de nouvelles formes d’expression. \n🌟 Les bienfaits pour votre enfant\n\n\nDévelopper la sensibilité musicale et la créativité \n\n\nStimuler l’imagination\, la motricité fine et la concentration \n\n\nFavoriser l’écoute active et l’attention \n\n\nEncourager la socialisation et l’entraide par le jeu collectif \n\n\nOffrir un cadre sécurisant grâce à des rituels musicaux de début et de fin de séance \n\n\nÉveiller l’intérêt pour un futur apprentissage structuré (instrument\, solfège) \n\n\nChaque séance combine manipulation d’instruments\, comptines parlées ou chantées\, découverte d’un instrument et écoute musicale. Les enfants apprennent à reproduire des rythmes\, à inventer des histoires sonores et à s’exprimer librement à travers la musique et le mouvement. \n👩‍🎤 Un accompagnement professionnel\nAnimé par une musicothérapeute expérimentée en crèche\, micro-crèche et maison d’assistantes maternelles\, cet atelier offre à chaque enfant un environnement bienveillant et stimulant. \n✨ Un moment d’éveil et de joie\nAu-delà des apprentissages\, l’éveil musical est avant tout une expérience ludique. Ici\, on chante\, on bouge\, on joue\, on rit… et surtout\, on s’amuse ! \n📅 Rejoignez-nous pour partager avec votre enfant un moment unique\, entre découverte musicale\, expression et plaisir.
URL:https://www.lamaisondespraticiens.fr/evenements/atelier-eveil-musical-enfants-ambares/
LOCATION:La Maison des Praticiens\, 39 rue du président coty\, Ambarès et Lagrave\, 33440\, France
CATEGORIES:Atelier enfant
ATTACH;FMTTYPE=image/png:https://www.lamaisondespraticiens.fr/wp-content/uploads/2025/09/la-maison-des-praticiens-centre-de-bien-etre-ambares-et-Lagrave-COMPLET-1.png
ORGANIZER;CN="Agn%C3%A8s Chichignoud":MAILTO:achichignoud.musicotherapeute@gmail.com
END:VEVENT
BEGIN:VEVENT
DTSTART;TZID=Europe/Paris:20251001T090000
DTEND;TZID=Europe/Paris:20251001T100000
DTSTAMP:20260425T161735
CREATED:20250923T113141Z
LAST-MODIFIED:20250923T113141Z
UID:10000010-1759309200-1759312800@www.lamaisondespraticiens.fr
SUMMARY:Cours de Qigong tous les mercredis de 9h à 10h
DESCRIPTION:« Le Qigong est une pratique ancestrale chinoise qui combine respiration\, mouvement et méditation pour renforcer le corps et apaiser l’esprit. » \nHarmonie\, Énergie\, Equilibre\, Bien-être\nLittéralement Qigong signifie travail de l’énergie.\nDes enchaînement et des postures sont pratiqués tout au long de l’année pour tonifier le Qi\, le souffle vital. L’ensemble des exercices visent avant tout la détente du corps et de l’esprit.\nA chaque saison\, des exercices spécifiques sont réalisés pour renforcer l’énergie de certains organes selon les principes de la Médecine Traditionnelle Chinoise.\nLa pratique du Qigong permet d’améliorer souplesse\, équilibre\, coordination et apporte une détente générale.\nUn corps détendu et un esprit apaisé favorisent la libre circulation de l’énergie Qi et le renforcement de la santé. \nPratique adaptée à tout âge. \nTarifs : 280€ la saison pour 1 cours / semaine
URL:https://www.lamaisondespraticiens.fr/evenements/cours-de-qigong-2/
LOCATION:La Maison des Praticiens\, 39 rue du président coty\, Ambarès et Lagrave\, 33440\, France
CATEGORIES:Qigong
ATTACH;FMTTYPE=image/webp:https://www.lamaisondespraticiens.fr/wp-content/uploads/2025/09/la-maison-des-praticiens-centre-de-bien-etre-ambares-et-Lagrave-23cb28beba86441e8b6d048b29d4d4b4.base_.image_-e1758621180737.webp
ORGANIZER;CN="Nicolas Trembley":MAILTO:nicolas.trembley@yahoo.com
END:VEVENT
BEGIN:VEVENT
DTSTART;TZID=Europe/Paris:20250930T191500
DTEND;TZID=Europe/Paris:20250930T203000
DTSTAMP:20260425T161735
CREATED:20250922T150939Z
LAST-MODIFIED:20260324T152641Z
UID:10000203-1759259700-1759264200@www.lamaisondespraticiens.fr
SUMMARY:Haṭha Yoga tous les mardis de 19h15 à 20h30
DESCRIPTION:Cultivez votre bien-être lors d’une séance alliant détente\, exercices dynamiques\, techniques respiratoires et relaxation favorisant le lâcher-prise. Prenez ce temps unique pour vous sur votre tapis.\n✨ « Le bonheur\, c’est vivre à la bonne heure\, ni avant\, ni après » ✨ Vivez ici et maintenant ✨\nLe Yoga est une pratique ancestrale originaire d’Inde.\nCette discipline constitue un ensemble de pratiques telles des postures (asana)\, techniques de contrôle de la respiration (pranayama) et la réalisation de sons ou de chants (mantra). Celles-ci permettent d’arrêter les perturbations du mental\, d’atténuer les asymétries dans le corps et de stimuler l’énergie présente en chacun de nous afin de percevoir votre corps unifié et vigoureux. A travers une pratique régulière\, vous libérez les tensions et les crispations et vous cheminez vers un état méditatif\, puis vers un « lâcher-prise ».\nLe Haṭha Yoga se pratique entre l’effort juste et la douceur\, avec des mouvements à votre rythme\, dans le maintien des postures favorisant la concentration\, le renforcement musculaire profond et en stimulant la mobilité articulaire. Cette discipline comporte également des enchaînements et des temps méditatifs. Vous pratiquez des mouvements de plus en plus consciemment\, placés sur votre souffle. Vous développez votre schéma corporel\, vous « alignez » votre corps.\nLes séances proposées sont ouvertes aux adultes de tout niveau. \nMatériel nécessaire à la séance : \n\nUn plaid et éventuellement des briques et/ou une sangle si vous en ressentez le besoin.\nLes tapis et coussins sont disponibles sur place.\n\nConditions tarifaires : \n\nCours d’essai non facturé en septembre et octobre\, puis facturé à 7€ en dehors de cette période.\nL’abonnement annuel peut être recalculé au prorata du mois d’inscription\, jusqu’au mois d’Avril.\nLes cours ont lieu toutes l’année en dehors d’une semaine pendant les vacances scolaires.\nConditions de paiement : chèque\, espèces ou virement. Les paiements peuvent être échelonnés mensuellement.Instagram : yogasoham33\nFacebook : Yoga So Ham\n\n 
URL:https://www.lamaisondespraticiens.fr/evenements/cours-hatha-yoga-ambares/2025-09-30/
LOCATION:La Maison des Praticiens\, 39 rue du président coty\, Ambarès et Lagrave\, 33440\, France
CATEGORIES:Yoga
ATTACH;FMTTYPE=image/webp:https://www.lamaisondespraticiens.fr/wp-content/uploads/2025/09/la-maison-des-praticiens-centre-de-bien-etre-ambares-et-Lagrave-6fcb2f096ddd4553bddd954e9e35acbf.base_.image_.webp
ORGANIZER;CN="Ang%C3%A9line Delpy":MAILTO:yogasohamangeline@gmail.com
END:VEVENT
BEGIN:VEVENT
DTSTART;TZID=Europe/Paris:20250929T123000
DTEND;TZID=Europe/Paris:20250929T123000
DTSTAMP:20260425T161735
CREATED:20250926T141623Z
LAST-MODIFIED:20250926T145438Z
UID:10000016-1759149000-1759149000@www.lamaisondespraticiens.fr
SUMMARY:Yoga Vinyasa\, tous les lundis de 12h30 à 13h30
DESCRIPTION:Tous les lundis\, découvrez le Yoga Vinyasa : une pratique fluide qui allie souffle\, mouvement et ancrage.\nChaque séance est conçue comme une parenthèse de bien-être\, pour vous éloigner du stress quotidien et retrouver équilibre et vitalité. \n🧘‍♀️ Qu’est-ce que le Yoga Vinyasa ?\nLe Vinyasa est un yoga dynamique où chaque posture s’enchaîne au rythme de la respiration. Cette pratique favorise la fluidité\, développe la force et améliore la flexibilité\, tout en apportant un profond lâcher-prise. Accessible à tous\, le Yoga Vinyasa ne demande pas de souplesse particulière : chacun progresse à son rythme\, selon ses capacités. \n🌿 Les bienfaits des cours de Yoga Vinyasa\n\nAméliorer la souplesse et la mobilité\nRenforcer le corps en profondeur et stimuler la vitalité\nDévelopper la concentration et l’ancrage\nApaiser le mental et réduire le stress\nCréer une connexion plus profonde entre le corps et l’esprit\n\n✨ Un moment rien que pour vous\nChaque cours est une invitation à respirer pleinement\, à vous reconnecter à votre espace intérieur et à libérer les tensions accumulées. Dans un cadre intimiste et bienveillant\, vous êtes accompagné(e) pas à pas pour progresser en douceur et en confiance. \n📅 Informations pratiques\n\nPremier cours d’essai : 10 €\nCours à l’unité : 17 €\nAbonnement annuel : 480 € (soit 12 €/séance)\nAbonnement semestriel : 280 € (soit 14 €/séance)\nPaiement échelonné possible\n\nLes places étant limitées\, pensez à réserver votre tapis dès maintenant. Offrez-vous ce moment privilégié pour vous ancrer\, respirer et retrouver votre équilibre grâce au Yoga Vinyasa.
URL:https://www.lamaisondespraticiens.fr/evenements/cours-yoga-vinyasa-ambares/2025-09-29/
LOCATION:La Maison des Praticiens\, 39 rue du président coty\, Ambarès et Lagrave\, 33440\, France
CATEGORIES:Yoga
ATTACH;FMTTYPE=image/webp:https://www.lamaisondespraticiens.fr/wp-content/uploads/2025/09/la-maison-des-praticiens-centre-de-bien-etre-ambares-et-Lagrave-f97edcd41ab54e2aaa8b2063ee41a8d1.base_.image_-e1758896162693.webp
ORGANIZER;CN="Caroline":MAILTO:leslouves.yoga@gmail.com
END:VEVENT
BEGIN:VEVENT
DTSTART;TZID=Europe/Paris:20250922T180000
DTEND;TZID=Europe/Paris:20250922T193000
DTSTAMP:20260425T161735
CREATED:20250929T150726Z
LAST-MODIFIED:20250929T151002Z
UID:10000314-1758564000-1758569400@www.lamaisondespraticiens.fr
SUMMARY:Atelier Antigym : libérer ses épaules et sa nuque
DESCRIPTION:Nos épaules portent bien plus que notre tête.\nReliées à la nuque et au cou\, elles supportent aussi nos bras grâce à un ensemble complexe de cinq articulations censées rester souples et mobiles. Pourtant\, sous l’effet du stress\, des responsabilités ou même des critiques\, les muscles des épaules se contractent et se raccourcissent. Résultat : mobilité réduite\, nuque raide\, respiration limitée et mains moins habiles. \n✨ Que faire ?\nOffrir à nos épaules des occasions de se libérer à travers des mouvements précis et adaptés. C’est ce que propose l’Antigym®\, une méthode de travail corporel créée dans les années 70 par Thérèse Bertherat\, kinésithérapeute de l’école Mézières. \n🌿 Qu’est-ce que l’Antigym ?\nFondée sur l’écoute du corps\, l’Antigym® combine des mouvements simples et puissants qui permettent à chacun de mieux se connaître et de se réapproprier son corps. Progressivement\, vous apprenez à dénouer vous-même les tensions et crispations accumulées\, qui vous tassent et brident vos élans. \n🧘 Les bienfaits attendus\n\n\nLibérer les épaules et la nuque des tensions \n\n\nRetrouver de la mobilité et une respiration plus fluide \n\n\nAméliorer la coordination et la souplesse \n\n\nDévelopper la conscience corporelle et le bien-être global \n\n\n📅 Informations pratiques\n\n\nSéance d’essai : 20 € (livre Le corps a ses raisons offert) \n\n\nAmbarès : lundi à 18h et jeudi à 10h30 (tous les 15 jours) \n\n\nAutres créneaux possibles en fonction des demandes \n\n\nPlaces limitées – réservation au 06 86 54 94 89 \n\n\nCes séances d’Antigym® sont animées par Claire Daviaud\, praticienne certifiée. Pour découvrir d’autres lieux de pratique en Gironde : antigymnastique.com. \nOffrez à vos épaules et à votre corps une nouvelle liberté de mouvement\, tout en douceur et en profondeur.
URL:https://www.lamaisondespraticiens.fr/evenements/atelier-antigym-ambares/2025-09-22/
LOCATION:La Maison des Praticiens\, 39 rue du président coty\, Ambarès et Lagrave\, 33440\, France
CATEGORIES:Antigym
ATTACH;FMTTYPE=image/png:https://www.lamaisondespraticiens.fr/wp-content/uploads/2025/09/la-maison-des-praticiens-centre-de-bien-etre-ambares-et-Lagrave-COMPLET-5.png
END:VEVENT
BEGIN:VEVENT
DTSTART;TZID=Europe/Paris:20250919T183000
DTEND;TZID=Europe/Paris:20250919T203000
DTSTAMP:20260425T161735
CREATED:20250923T083247Z
LAST-MODIFIED:20250929T094816Z
UID:10000004-1758306600-1758313800@www.lamaisondespraticiens.fr
SUMMARY:Boostez votre énergie avec la Médecine Traditionnelle Chinoise
DESCRIPTION:Découvrez la Médecine Traditionnelle Chinoise (MTC) à travers un atelier conférence et pratique\, pensé en fonction de l’énergie de chaque saison.\nChaque mois\, nous explorons les organes à soutenir et les pratiques adaptées pour renforcer l’équilibre corps-esprit. \n🌿 Présentation de l’énergie du mois\nLa séance débute par un diaporama qui met en lumière les spécificités de la saison : organes principaux à travailler\, élément associé\, conseils de diététique et d’hygiène de vie. Vous repartez avec des clés concrètes pour mieux comprendre votre énergie et l’harmoniser au quotidien. \n🧘 Pratique du Qigong et des méridiens\nPlace ensuite à une séance de Qigong d’environ 45 minutes. Vous apprendrez des exercices spécifiques : étirements des méridiens de la saison et travail de la posture de l’arbre. Cette pratique douce et profonde permet de stimuler la circulation de l’énergie vitale (Qi) et de renforcer la vitalité. \n🥗 Conseils diététiques selon la MTC\nChaque mois\, un focus est proposé sur la saveur principale à privilégier et les conseils alimentaires à adopter. Une recette adaptée à la saison vient compléter ces recommandations pratiques. \n💆 Repérage des méridiens et automassage\nVous découvrirez également les trajets de méridiens essentiels et les points d’acupuncture principaux. Leur repérage et leur fonction sont expliqués de manière simple et concrète. La séance se termine par un massage ou un automassage\, individuel ou avec un partenaire\, pour intégrer la théorie par l’expérience corporelle. \n✨ Un rendez-vous mensuel unique\nCet atelier de 2h\, limité à 8 participants\, est l’occasion d’apprendre\, de pratiquer et de prendre soin de soi selon les principes de la Médecine Traditionnelle Chinoise. \n📅 Tarif : 30 € par séance – ou 250 € pour 10 séances sur l’année. \n 
URL:https://www.lamaisondespraticiens.fr/evenements/atelier-medecine-traditionnelle-chinoise-ambares/2025-09-19/
LOCATION:La Maison des Praticiens\, 39 rue du président coty\, Ambarès et Lagrave\, 33440\, France
CATEGORIES:Qigong
ATTACH;FMTTYPE=image/webp:https://www.lamaisondespraticiens.fr/wp-content/uploads/2025/09/la-maison-des-praticiens-centre-de-bien-etre-ambares-et-Lagrave-b9f5c2181bf64f04bd075b38cc97c7a4.base_.image_.webp
ORGANIZER;CN="Nicolas Trembley":MAILTO:nicolas.trembley@yahoo.com
END:VEVENT
BEGIN:VEVENT
DTSTART;TZID=Europe/Paris:20250918T103000
DTEND;TZID=Europe/Paris:20250918T120000
DTSTAMP:20260425T161735
CREATED:20250929T151350Z
LAST-MODIFIED:20250929T151350Z
UID:10000362-1758191400-1758196800@www.lamaisondespraticiens.fr
SUMMARY:Atelier Antigym : libérer ses épaules et sa nuque
DESCRIPTION:Nos épaules portent bien plus que notre tête.\nReliées à la nuque et au cou\, elles supportent aussi nos bras grâce à un ensemble complexe de cinq articulations censées rester souples et mobiles. Pourtant\, sous l’effet du stress\, des responsabilités ou même des critiques\, les muscles des épaules se contractent et se raccourcissent. Résultat : mobilité réduite\, nuque raide\, respiration limitée et mains moins habiles. \n✨ Que faire ?\nOffrir à nos épaules des occasions de se libérer à travers des mouvements précis et adaptés. C’est ce que propose l’Antigym®\, une méthode de travail corporel créée dans les années 70 par Thérèse Bertherat\, kinésithérapeute de l’école Mézières. \n🌿 Qu’est-ce que l’Antigym ?\nFondée sur l’écoute du corps\, l’Antigym® combine des mouvements simples et puissants qui permettent à chacun de mieux se connaître et de se réapproprier son corps. Progressivement\, vous apprenez à dénouer vous-même les tensions et crispations accumulées\, qui vous tassent et brident vos élans. \n🧘 Les bienfaits attendus\n\n\nLibérer les épaules et la nuque des tensions \n\n\nRetrouver de la mobilité et une respiration plus fluide \n\n\nAméliorer la coordination et la souplesse \n\n\nDévelopper la conscience corporelle et le bien-être global \n\n\n📅 Informations pratiques\n\n\nSéance d’essai : 20 € (livre Le corps a ses raisons offert) \n\n\nAmbarès : lundi à 18h et jeudi à 10h30 (tous les 15 jours) \n\n\nAutres créneaux possibles en fonction des demandes \n\n\nPlaces limitées – réservation au 06 86 54 94 89 \n\n\nCes séances d’Antigym® sont animées par Claire Daviaud\, praticienne certifiée. Pour découvrir d’autres lieux de pratique en Gironde : antigymnastique.com. \nOffrez à vos épaules et à votre corps une nouvelle liberté de mouvement\, tout en douceur et en profondeur.
URL:https://www.lamaisondespraticiens.fr/evenements/atelier-antigym-ambares-2/2025-09-18/
LOCATION:La Maison des Praticiens\, 39 rue du président coty\, Ambarès et Lagrave\, 33440\, France
CATEGORIES:Antigym
ATTACH;FMTTYPE=image/png:https://www.lamaisondespraticiens.fr/wp-content/uploads/2025/09/la-maison-des-praticiens-centre-de-bien-etre-ambares-et-Lagrave-COMPLET-5.png
END:VEVENT
BEGIN:VEVENT
DTSTART;TZID=Europe/Paris:20250908T180000
DTEND;TZID=Europe/Paris:20250908T193000
DTSTAMP:20260425T161735
CREATED:20250929T150726Z
LAST-MODIFIED:20250929T151002Z
UID:10000313-1757354400-1757359800@www.lamaisondespraticiens.fr
SUMMARY:Atelier Antigym : libérer ses épaules et sa nuque
DESCRIPTION:Nos épaules portent bien plus que notre tête.\nReliées à la nuque et au cou\, elles supportent aussi nos bras grâce à un ensemble complexe de cinq articulations censées rester souples et mobiles. Pourtant\, sous l’effet du stress\, des responsabilités ou même des critiques\, les muscles des épaules se contractent et se raccourcissent. Résultat : mobilité réduite\, nuque raide\, respiration limitée et mains moins habiles. \n✨ Que faire ?\nOffrir à nos épaules des occasions de se libérer à travers des mouvements précis et adaptés. C’est ce que propose l’Antigym®\, une méthode de travail corporel créée dans les années 70 par Thérèse Bertherat\, kinésithérapeute de l’école Mézières. \n🌿 Qu’est-ce que l’Antigym ?\nFondée sur l’écoute du corps\, l’Antigym® combine des mouvements simples et puissants qui permettent à chacun de mieux se connaître et de se réapproprier son corps. Progressivement\, vous apprenez à dénouer vous-même les tensions et crispations accumulées\, qui vous tassent et brident vos élans. \n🧘 Les bienfaits attendus\n\n\nLibérer les épaules et la nuque des tensions \n\n\nRetrouver de la mobilité et une respiration plus fluide \n\n\nAméliorer la coordination et la souplesse \n\n\nDévelopper la conscience corporelle et le bien-être global \n\n\n📅 Informations pratiques\n\n\nSéance d’essai : 20 € (livre Le corps a ses raisons offert) \n\n\nAmbarès : lundi à 18h et jeudi à 10h30 (tous les 15 jours) \n\n\nAutres créneaux possibles en fonction des demandes \n\n\nPlaces limitées – réservation au 06 86 54 94 89 \n\n\nCes séances d’Antigym® sont animées par Claire Daviaud\, praticienne certifiée. Pour découvrir d’autres lieux de pratique en Gironde : antigymnastique.com. \nOffrez à vos épaules et à votre corps une nouvelle liberté de mouvement\, tout en douceur et en profondeur.
URL:https://www.lamaisondespraticiens.fr/evenements/atelier-antigym-ambares/2025-09-08/
LOCATION:La Maison des Praticiens\, 39 rue du président coty\, Ambarès et Lagrave\, 33440\, France
CATEGORIES:Antigym
ATTACH;FMTTYPE=image/png:https://www.lamaisondespraticiens.fr/wp-content/uploads/2025/09/la-maison-des-praticiens-centre-de-bien-etre-ambares-et-Lagrave-COMPLET-5.png
END:VEVENT
BEGIN:VEVENT
DTSTART;TZID=Europe/Paris:20250904T103000
DTEND;TZID=Europe/Paris:20250904T120000
DTSTAMP:20260425T161735
CREATED:20250929T151350Z
LAST-MODIFIED:20250929T151350Z
UID:10000361-1756981800-1756987200@www.lamaisondespraticiens.fr
SUMMARY:Atelier Antigym : libérer ses épaules et sa nuque
DESCRIPTION:Nos épaules portent bien plus que notre tête.\nReliées à la nuque et au cou\, elles supportent aussi nos bras grâce à un ensemble complexe de cinq articulations censées rester souples et mobiles. Pourtant\, sous l’effet du stress\, des responsabilités ou même des critiques\, les muscles des épaules se contractent et se raccourcissent. Résultat : mobilité réduite\, nuque raide\, respiration limitée et mains moins habiles. \n✨ Que faire ?\nOffrir à nos épaules des occasions de se libérer à travers des mouvements précis et adaptés. C’est ce que propose l’Antigym®\, une méthode de travail corporel créée dans les années 70 par Thérèse Bertherat\, kinésithérapeute de l’école Mézières. \n🌿 Qu’est-ce que l’Antigym ?\nFondée sur l’écoute du corps\, l’Antigym® combine des mouvements simples et puissants qui permettent à chacun de mieux se connaître et de se réapproprier son corps. Progressivement\, vous apprenez à dénouer vous-même les tensions et crispations accumulées\, qui vous tassent et brident vos élans. \n🧘 Les bienfaits attendus\n\n\nLibérer les épaules et la nuque des tensions \n\n\nRetrouver de la mobilité et une respiration plus fluide \n\n\nAméliorer la coordination et la souplesse \n\n\nDévelopper la conscience corporelle et le bien-être global \n\n\n📅 Informations pratiques\n\n\nSéance d’essai : 20 € (livre Le corps a ses raisons offert) \n\n\nAmbarès : lundi à 18h et jeudi à 10h30 (tous les 15 jours) \n\n\nAutres créneaux possibles en fonction des demandes \n\n\nPlaces limitées – réservation au 06 86 54 94 89 \n\n\nCes séances d’Antigym® sont animées par Claire Daviaud\, praticienne certifiée. Pour découvrir d’autres lieux de pratique en Gironde : antigymnastique.com. \nOffrez à vos épaules et à votre corps une nouvelle liberté de mouvement\, tout en douceur et en profondeur.
URL:https://www.lamaisondespraticiens.fr/evenements/atelier-antigym-ambares-2/2025-09-04/
LOCATION:La Maison des Praticiens\, 39 rue du président coty\, Ambarès et Lagrave\, 33440\, France
CATEGORIES:Antigym
ATTACH;FMTTYPE=image/png:https://www.lamaisondespraticiens.fr/wp-content/uploads/2025/09/la-maison-des-praticiens-centre-de-bien-etre-ambares-et-Lagrave-COMPLET-5.png
END:VEVENT
END:VCALENDAR