BEGIN:VCALENDAR
VERSION:2.0
PRODID:-//La Maison des Praticiens - ECPv6.15.17.1//NONSGML v1.0//EN
CALSCALE:GREGORIAN
METHOD:PUBLISH
X-ORIGINAL-URL:https://www.lamaisondespraticiens.fr
X-WR-CALDESC:Évènements pour La Maison des Praticiens
REFRESH-INTERVAL;VALUE=DURATION:PT1H
X-Robots-Tag:noindex
X-PUBLISHED-TTL:PT1H
BEGIN:VTIMEZONE
TZID:Europe/Paris
BEGIN:DAYLIGHT
TZOFFSETFROM:+0100
TZOFFSETTO:+0200
TZNAME:CEST
DTSTART:20250330T010000
END:DAYLIGHT
BEGIN:STANDARD
TZOFFSETFROM:+0200
TZOFFSETTO:+0100
TZNAME:CET
DTSTART:20251026T010000
END:STANDARD
BEGIN:DAYLIGHT
TZOFFSETFROM:+0100
TZOFFSETTO:+0200
TZNAME:CEST
DTSTART:20260329T010000
END:DAYLIGHT
BEGIN:STANDARD
TZOFFSETFROM:+0200
TZOFFSETTO:+0100
TZNAME:CET
DTSTART:20261025T010000
END:STANDARD
BEGIN:DAYLIGHT
TZOFFSETFROM:+0100
TZOFFSETTO:+0200
TZNAME:CEST
DTSTART:20270328T010000
END:DAYLIGHT
BEGIN:STANDARD
TZOFFSETFROM:+0200
TZOFFSETTO:+0100
TZNAME:CET
DTSTART:20271031T010000
END:STANDARD
END:VTIMEZONE
BEGIN:VEVENT
DTSTART;TZID=Europe/Paris:20260426T101500
DTEND;TZID=Europe/Paris:20260426T114500
DTSTAMP:20260424T175033
CREATED:20250923T093358Z
LAST-MODIFIED:20250926T133444Z
UID:10000008-1777198500-1777203900@www.lamaisondespraticiens.fr
SUMMARY:Atelier Auto-Massage
DESCRIPTION:Apprenez des gestes simples et efficaces pour relâcher les tensions\, apaiser le mental et instaurer une routine de détente à refaire chez vous.\nJ’apprends à m’auto-masser\n🌿 Atelier d’Auto-massage – 1h15\nSTOP à la fatigue\, stress\, douleurs musculaires\, surcharge mentale …Votre bien-être quotidien est entre vos mains.\nApprenez des gestes simples et efficaces pour relâcher les tensions\, apaiser le mental et instaurer une routine de détente à refaire chez vous. \nJe vous propose :\n👐 Un moment pour vous reconnecter à votre corps\n🌀 Des techniques douces\, à refaire seul.e à la maison\n💆‍♀️ Et de la pratique \n👉 Repartez avec des outils concrets pour prolonger le bien-être chez vous. \nPour qui :\nAdultes et enfants accompagnés à partir de 12 ans. \nQuand :\nLe jeudi 6 novembre à 19h15 – 20 Euros (offre de lancement)\nLe samedi 31 janvier à 10h15 – 25 Euros\nLe dimanche 26 avril à 10h15 – 30 euros \n⚠️ Je ne peux accueillir que 8 personnes – Faites votre réservation dès à présent. \nCe sera un chouette moment. J’ai hâte d’y être déjà .\nCécile Pouységur | Les Massages Nomades
URL:https://www.lamaisondespraticiens.fr/evenements/atelier-auto-massage-ambares-3/
LOCATION:La Maison des Praticiens\, 39 rue du président coty\, Ambarès et Lagrave\, 33440\, France
CATEGORIES:Massages
ATTACH;FMTTYPE=image/webp:https://www.lamaisondespraticiens.fr/wp-content/uploads/2025/09/la-maison-des-praticiens-centre-de-bien-etre-ambares-et-Lagrave-2ea5e3e184a440b7ba52298ea279abc2.base_.image_-e1758619317672.webp
ORGANIZER;CN="C%C3%A9cile Pouys%C3%A9gur":MAILTO:lesmassagesnomades.info@gmail.com
END:VEVENT
BEGIN:VEVENT
DTSTART;TZID=Europe/Paris:20260517T101500
DTEND;TZID=Europe/Paris:20260517T114500
DTSTAMP:20260424T175033
CREATED:20250929T100602Z
LAST-MODIFIED:20250929T100602Z
UID:10000312-1779012900-1779018300@www.lamaisondespraticiens.fr
SUMMARY:Atelier Auto-Drainage
DESCRIPTION:J’apprends à m’auto-drainer\n💧 Stimulez votre système lymphatique\, naturellement.\nVous subissez de la fatigue chronique\, vous avez les jambes lourdes ou faites de la rétention d’eau ? Cet atelier est fait pour vous. \nAu cours de cet atelier de 1h30\,\nVous découvrirez de façon ludique\, la théorie :\n· Le rôle de la lymphe – maillon essentiel de notre équilibre et de notre immunité –\n· Et comment le système lymphatique fonctionne \nEt la pratique\, vous apprendrez :\n· Les gestes pour relancer la circulation lymphatique et la soutenir au quotidien par des gestes simples\, précis et doux.\n· et comment intégrer une routine d’auto-drainage pour alléger vos jambes lourdes\, réduire votre fatigue et détoxifier votre corps. \nPour qui : Adulte à partir de 18 ans \nQuand :\nLe jeudi 20 novembre à 19h15 – 60 euros ( offre de lancement)\nLe samedi 28 février à 10h15 – 80 euros\nLe dimanche 17 mai à 10h15 – 80 euros \n⚠️ Je ne peux accueillir que 8 personnes ➡️ Faites votre réservation dès à présent. \nCe sera un chouette moment. J’ai hâte d’y être déjà .\nCécile Pouységur | Les Massages Nomades
URL:https://www.lamaisondespraticiens.fr/evenements/atelier-auto-drainage-lymphatique-ambares/2026-05-17/
LOCATION:La Maison des Praticiens\, 39 rue du président coty\, Ambarès et Lagrave\, 33440\, France
CATEGORIES:Massages
ATTACH;FMTTYPE=image/webp:https://www.lamaisondespraticiens.fr/wp-content/uploads/2025/09/la-maison-des-praticiens-centre-de-bien-etre-ambares-et-Lagrave-2ea5e3e184a440b7ba52298ea279abc2.base_.image_-e1758619317672.webp
ORGANIZER;CN="C%C3%A9cile Pouys%C3%A9gur":MAILTO:lesmassagesnomades.info@gmail.com
END:VEVENT
END:VCALENDAR