BEGIN:VCALENDAR
VERSION:2.0
PRODID:-//La Maison des Praticiens - ECPv6.15.17.1//NONSGML v1.0//EN
CALSCALE:GREGORIAN
METHOD:PUBLISH
X-WR-CALNAME:La Maison des Praticiens
X-ORIGINAL-URL:https://www.lamaisondespraticiens.fr
X-WR-CALDESC:Évènements pour La Maison des Praticiens
REFRESH-INTERVAL;VALUE=DURATION:PT1H
X-Robots-Tag:noindex
X-PUBLISHED-TTL:PT1H
BEGIN:VTIMEZONE
TZID:Europe/Paris
BEGIN:DAYLIGHT
TZOFFSETFROM:+0100
TZOFFSETTO:+0200
TZNAME:CEST
DTSTART:20240331T010000
END:DAYLIGHT
BEGIN:STANDARD
TZOFFSETFROM:+0200
TZOFFSETTO:+0100
TZNAME:CET
DTSTART:20241027T010000
END:STANDARD
BEGIN:DAYLIGHT
TZOFFSETFROM:+0100
TZOFFSETTO:+0200
TZNAME:CEST
DTSTART:20250330T010000
END:DAYLIGHT
BEGIN:STANDARD
TZOFFSETFROM:+0200
TZOFFSETTO:+0100
TZNAME:CET
DTSTART:20251026T010000
END:STANDARD
BEGIN:DAYLIGHT
TZOFFSETFROM:+0100
TZOFFSETTO:+0200
TZNAME:CEST
DTSTART:20260329T010000
END:DAYLIGHT
BEGIN:STANDARD
TZOFFSETFROM:+0200
TZOFFSETTO:+0100
TZNAME:CET
DTSTART:20261025T010000
END:STANDARD
END:VTIMEZONE
BEGIN:VEVENT
DTSTART;TZID=Europe/Paris:20251005T093000
DTEND;TZID=Europe/Paris:20251005T123000
DTSTAMP:20260425T034705
CREATED:20250918T150413Z
LAST-MODIFIED:20250926T130842Z
UID:10000001-1759656600-1759667400@www.lamaisondespraticiens.fr
SUMMARY:Yoga et Poterie
DESCRIPTION:Cultivons la pleine conscience à travers deux pratiques complémentaires : le yoga et le modelage céramique. Cet atelier unique vous invite à ralentir\, à revenir à vous-même et à développer votre présence dans l’instant.\nEntre mouvement du corps et travail de la matière\, vous découvrirez une expérience complète pour favoriser l’ancrage\, la détente et la créativité. \n🌿 Une séance de yoga pour retrouver son équilibre intérieur\nCaroline\, professeure de Yoga Vinyasa\, vous guidera dans une pratique fluide et accessible à tous. Les enchaînements de postures\, associés à la respiration\, permettent de se reconnecter à son corps et de libérer les tensions. Cette pratique de yoga met l’accent sur la pleine conscience\, l’écoute de soi et l’harmonie entre souffle et mouvement. Que vous soyez débutant ou pratiquant confirmé\, ce moment est une parenthèse pour vous recentrer et ressentir un profond bien-être. \n🎨 Une initiation au modelage céramique pour stimuler sa créativité\nAprès le yoga\, place à la matière ! Marion Grosbois\, céramiste passionnée\, vous initiera à la technique du pincé\, un modelage simple et méditatif. Vous réaliserez une petite pièce unique\, façonnée de vos propres mains. Cette activité créative favorise le lâcher-prise\, développe la concentration et prolonge l’état de présence cultivé pendant le yoga. Votre création sera ensuite émaillée et cuite par Marion dans son atelier. Vous pourrez la récupérer quelques semaines plus tard (délai de 4 à 6 semaines)\, un souvenir tangible de votre expérience. \n☕ Un moment de convivialité\nPour clôturer cette immersion\, une collation sucrée faite maison vous sera offerte. L’occasion de partager vos ressentis et d’échanger dans une atmosphère chaleureuse. \nCet atelier yoga et modelage céramique est une belle occasion de prendre soin de vous\, d’explorer la pleine conscience sous deux formes différentes et de repartir avec un objet qui symbolise votre cheminement intérieur. \n  \nCet atelier se déroulera à La Maison des Praticiens\, Ambarès-et-Lagrave\, près de Bordeaux. Facilement accessible\, avec parking gratuit.
URL:https://www.lamaisondespraticiens.fr/evenements/atelier-yoga-ceramique-ambares/
LOCATION:La Maison des Praticiens\, 39 rue du président coty\, Ambarès et Lagrave\, 33440\, France
CATEGORIES:Yoga
ATTACH;FMTTYPE=image/webp:https://www.lamaisondespraticiens.fr/wp-content/uploads/2025/09/la-maison-des-praticiens-centre-de-bien-etre-ambares-et-Lagrave-80e603f3f21148bcb090f67cca848f8d.base_.image_-e1758619565100.webp
ORGANIZER;CN="Caroline":MAILTO:leslouves.yoga@gmail.com
END:VEVENT
END:VCALENDAR