BEGIN:VCALENDAR
VERSION:2.0
PRODID:-//La Maison des Praticiens - ECPv6.15.17.1//NONSGML v1.0//EN
CALSCALE:GREGORIAN
METHOD:PUBLISH
X-WR-CALNAME:La Maison des Praticiens
X-ORIGINAL-URL:https://www.lamaisondespraticiens.fr
X-WR-CALDESC:Évènements pour La Maison des Praticiens
REFRESH-INTERVAL;VALUE=DURATION:PT1H
X-Robots-Tag:noindex
X-PUBLISHED-TTL:PT1H
BEGIN:VTIMEZONE
TZID:Europe/Paris
BEGIN:DAYLIGHT
TZOFFSETFROM:+0100
TZOFFSETTO:+0200
TZNAME:CEST
DTSTART:20240331T010000
END:DAYLIGHT
BEGIN:STANDARD
TZOFFSETFROM:+0200
TZOFFSETTO:+0100
TZNAME:CET
DTSTART:20241027T010000
END:STANDARD
BEGIN:DAYLIGHT
TZOFFSETFROM:+0100
TZOFFSETTO:+0200
TZNAME:CEST
DTSTART:20250330T010000
END:DAYLIGHT
BEGIN:STANDARD
TZOFFSETFROM:+0200
TZOFFSETTO:+0100
TZNAME:CET
DTSTART:20251026T010000
END:STANDARD
BEGIN:DAYLIGHT
TZOFFSETFROM:+0100
TZOFFSETTO:+0200
TZNAME:CEST
DTSTART:20260329T010000
END:DAYLIGHT
BEGIN:STANDARD
TZOFFSETFROM:+0200
TZOFFSETTO:+0100
TZNAME:CET
DTSTART:20261025T010000
END:STANDARD
BEGIN:DAYLIGHT
TZOFFSETFROM:+0100
TZOFFSETTO:+0200
TZNAME:CEST
DTSTART:20270328T010000
END:DAYLIGHT
BEGIN:STANDARD
TZOFFSETFROM:+0200
TZOFFSETTO:+0100
TZNAME:CET
DTSTART:20271031T010000
END:STANDARD
END:VTIMEZONE
BEGIN:VEVENT
DTSTART;TZID=Europe/Paris:20260424T183000
DTEND;TZID=Europe/Paris:20260424T193000
DTSTAMP:20260424T213252
CREATED:20260411T090022Z
LAST-MODIFIED:20260411T090022Z
UID:10000509-1777055400-1777059000@www.lamaisondespraticiens.fr
SUMMARY:Conférence communication avec l’au-delà | Maison des Praticiens
DESCRIPTION:Conférence communication avec l’au-delà Ambarès : une expérience unique à découvrir\nLa conférence communication avec l’au-delà Ambarès organisée à la Maison des Praticiens est une invitation à explorer un sujet aussi fascinant que délicat : le contact avec les défunts et la médiumnité. \nAnimée par Jessica Teyssier\, thérapeute et médium\, cette rencontre vous permettra de mieux comprendre les mécanismes de la communication avec l’au-delà\, dans un cadre bienveillant\, accessible et sans jugement. \n\n🌿 Une conférence pour comprendre la médiumnité\nCette conférence sur la communication avec l’au-delà à Ambarès s’adresse à toute personne curieuse\, en questionnement ou simplement ouverte à la découverte. \nVous y découvrirez : \n\nCe qu’est la médiumnité\nComment se déroule un contact avec un défunt\nLes différentes formes de perception\nLes limites et le cadre de ces pratiques\n\nUn temps d’échange sera également proposé pour répondre à vos questions. \n\n📍 Informations pratiques\n📅 Vendredi 24 avril 2026🕒 18h30 à 19h30📍 La Maison des Praticiens – Ambarès-et-Lagrave \n🎟️ Conférence gratuite⚠️ Inscription obligatoire (places limitées)📞 06 45 47 85 44 \n\n💬 Pourquoi participer à cette conférence ?\nParticiper à cette conférence communication avec l’au-delà Ambarès\, c’est avant tout s’offrir un moment de réflexion et d’ouverture. \nLa Maison des Praticiens propose régulièrement des événements autour du bien-être et du développement personnel.👉 Découvrez également nos autres événements
URL:https://www.lamaisondespraticiens.fr/evenements/conference-communication-au-dela-ambares/
LOCATION:La Maison des Praticiens\, 39 rue du président coty\, Ambarès et Lagrave\, 33440\, France
CATEGORIES:Développement personnel
ATTACH;FMTTYPE=image/png:https://www.lamaisondespraticiens.fr/wp-content/uploads/2026/04/la-maison-des-praticiens-centre-de-bien-etre-ambares-et-Lagrave-1000050168.png
END:VEVENT
BEGIN:VEVENT
DTSTART;TZID=Europe/Paris:20260125T140000
DTEND;TZID=Europe/Paris:20260125T160000
DTSTAMP:20260424T213252
CREATED:20260105T145610Z
LAST-MODIFIED:20260105T151104Z
UID:10000495-1769349600-1769356800@www.lamaisondespraticiens.fr
SUMMARY:Kundalini Activation à Ambarès-et-Lagrave
DESCRIPTION:Réveille ton énergie vitale & reconnecte-toi à ton feu intérieur\nEt si tu commençais l’année par un véritable retour à toi ?Un temps suspendu\, doux et puissant à la fois\, pour te reconnecter à l’essentiel. \nSouviens-toi de l’enfant que tu étais…Libre\, joyeux(se)\, spontané(e)\, insouciant(e).Cette énergie ne t’a jamais quitté.Elle s’est simplement mise en veille\, absorbée par le rythme du quotidien\, les responsabilités\, le mental. \nLors de cette session de Kundalini Activation\, tu es invité(e) à vivre une reconnexion profonde à toi-m’aime\, sans effort\, sans technique à apprendre\, sans contrôle.Un espace sécurisé et bienveillant pour laisser l’énergie vitale circuler\, réveiller ton feu intérieur et retrouver plus de clarté\, de vitalité et de présence à toi-même. \n✨ Une expérience unique de transformation intérieure\nLa Kundalini Activation est une pratique énergétique douce et naturelle qui permet : \n\nde libérer les blocages émotionnels et énergétiques\,\nde relancer la circulation de l’énergie vitale\,\nd’apaiser le mental\,\nde se reconnecter à son intuition et à son corps\,\nde retrouver un profond sentiment d’alignement et de vitalité.\n\nChaque expérience est unique et se vit exactement là où tu en as besoin. \n\n👤 Animée par Laetitia\nCoach de vie & facilitatrice en Kundalini Activation\, Laetitia accompagne les personnes vers une reconnexion authentique à elles-mêmes\, dans la douceur\, l’écoute et le respect du rythme de chacun(e). \n📞 Contact : 07 61 88 35 58🌐 Plus d’informations sur la pratique : tesressourcesinsoupconnees.com \n\n📅 Informations pratiques\n🗓 Dimanche 25 janvier⏰ 14h à 16h📍 La Maison des Praticiens – Ambarès-et-Lagrave \n⚠️ Attention – places très limitées✔️ Session du 11 janvier : complète✔️ Session du 18 janvier : complète👉 Il ne reste que quelques places pour le 25 janvier \n👉 Réservation fortement conseillée. \n\n💫 Offrez-vous ce temps pour vous\nCommencer l’année en prenant soin de son énergie\, de son corps et de son être\, c’est poser une intention forte pour la suite.Un moment cocooning\, transformateur et profondément ressourçant.
URL:https://www.lamaisondespraticiens.fr/evenements/kundalini-activation-ambares-et-lagrave/
LOCATION:La Maison des Praticiens\, 39 rue du président coty\, Ambarès et Lagrave\, 33440\, France
CATEGORIES:Développement personnel
ATTACH;FMTTYPE=image/jpeg:https://www.lamaisondespraticiens.fr/wp-content/uploads/2026/01/la-maison-des-praticiens-centre-de-bien-etre-ambares-et-Lagrave-Format-carroussel.jpg
END:VEVENT
BEGIN:VEVENT
DTSTART;TZID=Europe/Paris:20260118T093000
DTEND;TZID=Europe/Paris:20260118T123000
DTSTAMP:20260424T213252
CREATED:20251009T102818Z
LAST-MODIFIED:20251009T140226Z
UID:10000409-1768728600-1768739400@www.lamaisondespraticiens.fr
SUMMARY:Yoga et poterie
DESCRIPTION:Offrez-vous une parenthèse de bien-être et de créativité avec un atelier unique associant yoga et modelage céramique\, à La Maison des Praticiens à Ambarès.\nCet atelier a été conçu pour vous permettre de respirer\, vous détendre et reconnecter votre corps et votre esprit à travers deux pratiques complémentaires : le Yoga Flow et la céramique. \n🧘‍♀️ Une séance de Yoga Flow pour réveiller l’énergie\nLa matinée commencera par une séance d’une heure de Yoga Flow\, une pratique fluide qui favorise la respiration\, l’ancrage et la circulation de l’énergie. Accessible à tous les niveaux\, ce yoga dynamique aide à apaiser le mental\, à relâcher les tensions et à retrouver l’équilibre intérieur. \n🎨 Un atelier de modelage céramique pour exprimer sa créativité\nPlace ensuite à la création avec Marion Grosbois\, céramiste à Bordeaux. Elle vous guidera dans la réalisation d’une petite pièce en argile selon la technique du pincé. Ce moment de modelage invite au lâcher-prise et à l’expression artistique\, tout en restant connecté à vos sensations. Vous pourrez récupérer votre pièce après l’émaillage et la cuisson réalisés par Marion. \n☕ Une pause gourmande et un espace bienveillant\nEntre les deux pratiques\, une collation sucrée faite maison vous sera offerte. L’ambiance cosy et bienveillante de La Maison des Praticiens vous permettra de déconnecter totalement et de savourer ce moment hors du temps. \n📅 Informations pratiques\n\n\nDate : Dimanche 18 janvier\, de 9h30 à 12h30 \n\n\nTarif : 65 € pour 2h30 de déconnexion \n\n\nPlaces limitées à 7 participants \n\n\nLieu : La Maison des Praticiens\, Ambarès-et-Lagrave \n\n\n✨ Venez vivre une expérience sensorielle et apaisante\, entre mouvement\, matière et douceur.
URL:https://www.lamaisondespraticiens.fr/evenements/atelier-yoga-modelage-ceramique-ambares/
LOCATION:La Maison des Praticiens\, 39 rue du président coty\, Ambarès et Lagrave\, 33440\, France
CATEGORIES:Développement personnel,Yoga
ATTACH;FMTTYPE=image/png:https://www.lamaisondespraticiens.fr/wp-content/uploads/2025/10/la-maison-des-praticiens-centre-de-bien-etre-ambares-et-Lagrave-COMPLET-6.png
ORGANIZER;CN="Caroline":MAILTO:leslouves.yoga@gmail.com
END:VEVENT
BEGIN:VEVENT
DTSTART;TZID=Europe/Paris:20251213T100000
DTEND;TZID=Europe/Paris:20251213T110000
DTSTAMP:20260424T213252
CREATED:20250929T095419Z
LAST-MODIFIED:20250929T095419Z
UID:10000306-1765620000-1765623600@www.lamaisondespraticiens.fr
SUMMARY:Séance collective de musicothérapie à Ambarès
DESCRIPTION:Découvrez la puissance de la musique dans une séance collective de musicothérapie.\nLa musique agit sur le sensible\, l’émotionnel et l’affectif. Elle devient un outil de partage et de développement personnel. Cet atelier collectif est une invitation à se laisser porter par les sons\, les rythmes et les vibrations\, pour explorer de nouvelles formes d’expression. \n🎵 Les objectifs de la séance\n\n\nDévelopper l’écoute active et la cohésion de groupe \n\n\nExplorer des sons\, des rythmes et des instruments \n\n\nStimuler la créativité et l’expression personnelle grâce à la musique \n\n\nFavoriser le lâcher-prise et le bien-être \n\n\n🌟 Un déroulement progressif et ludique\n\n\nAccueil et mise en condition : salutation du groupe\, petits jeux de présentation\, échauffement corporel et vocal\, respiration et jeux rythmiques. \n\n\nExploration sonore : découverte libre d’instruments variés\, expériences guidées autour des sons (doux/forts\, rapides/lents)\, créations collectives comme la pluie ou un orage. \n\n\nCréation collective : raconter une histoire uniquement avec des sons et rythmes inventés ensemble. \n\n\nMise en mouvement : danser librement au rythme de la musique pour stimuler le corps et libérer les émotions. \n\n\nClôture en douceur : retour au calme en musique suivi d’un temps de parole pour partager ressentis et impressions. \n\n\n💡 Un espace pour s’exprimer et partager\nCet atelier est accessible à tous\, sans besoin de savoir jouer d’un instrument. L’important est de participer\, d’explorer et de se laisser surprendre. \n📅 Infos pratiques\n\n\nDurée : 1 heure \n\n\nTarif : 11 € \n\n\nParticipants : 8 personnes maximum \n\n\nSur inscription \n\n\nRejoignez-nous pour expérimenter la musicothérapie en groupe et découvrez comment la musique peut transformer vos émotions et renforcer vos liens avec les autres.
URL:https://www.lamaisondespraticiens.fr/evenements/seance-collective-musicotherapie-ambares/2025-12-13/
LOCATION:La Maison des Praticiens\, 39 rue du président coty\, Ambarès et Lagrave\, 33440\, France
CATEGORIES:Développement personnel
ATTACH;FMTTYPE=image/png:https://www.lamaisondespraticiens.fr/wp-content/uploads/2025/09/la-maison-des-praticiens-centre-de-bien-etre-ambares-et-Lagrave-COMPLET-3.png
ORGANIZER;CN="Agn%C3%A8s Chichignoud":MAILTO:achichignoud.musicotherapeute@gmail.com
END:VEVENT
BEGIN:VEVENT
DTSTART;VALUE=DATE:20251206
DTEND;VALUE=DATE:20251207
DTSTAMP:20260424T213252
CREATED:20251122T150344Z
LAST-MODIFIED:20251122T150344Z
UID:10000413-1764979200-1765065599@www.lamaisondespraticiens.fr
SUMMARY:Mini séances de photo : Noël à la Maison
DESCRIPTION:✨ Mini-Séances de Noël – 2025 ✨ \nParce que la magie des fêtes mérite d’être immortalisée\, Émilie @histoire.dinstants – photographe partenaire de La Maison des Praticiens – vous propose ses mini-séances photo de Noël\, pensées pour créer de vrais souvenirs\, authentiques et pleins d’émotions. \n🎄 Pour un moment unique\, en couple\, en famille ou avec vos enfants :\n📸 Des clichés spontanés et lumineux\, capturés dans une ambiance chaleureuse\n💌 Des souvenirs doux et intemporels\, à offrir ou à garder précieusement\n👨‍👩‍👧‍👦 Un instant suspendu\, rien que pour vous\, loin du rythme du quotidien \n✨ Une vraie parenthèse enchantée\, dans l’esprit de Noël. \n⚠️ Places très limitées ! 🌟 \n— \nÀ propos d’Émilie : Photographe de la vie\, de l’amour et des instants précieux\, elle capture vos émotions vraies et vos liens les plus forts. Disponible pour vos mariages\, séances famille\, grossesse\, couple et tous ces instants qui comptent. ✨
URL:https://www.lamaisondespraticiens.fr/evenements/mini-seances-photo-noel-ambares-2/
LOCATION:La Maison des Praticiens\, 39 rue du président coty\, Ambarès et Lagrave\, 33440\, France
CATEGORIES:Développement personnel
ATTACH;FMTTYPE=image/jpeg:https://www.lamaisondespraticiens.fr/wp-content/uploads/2025/11/la-maison-des-praticiens-centre-de-bien-etre-ambares-et-Lagrave-WhatsApp-Image-2025-11-22-at-15.52.57.jpeg
END:VEVENT
BEGIN:VEVENT
DTSTART;TZID=Europe/Paris:20251127T190000
DTEND;TZID=Europe/Paris:20251127T203000
DTSTAMP:20260424T213252
CREATED:20251122T143825Z
LAST-MODIFIED:20251122T143825Z
UID:10000411-1764270000-1764275400@www.lamaisondespraticiens.fr
SUMMARY:Femmes en scène
DESCRIPTION:🎭 Coaching par le Théâtre – Respirez\, Osez\, Rayonnez \nNous sommes ravis d’accueillir une nouvelle séance de coaching par le théâtre\, un atelier pensé pour offrir à chaque participante un espace d’expression libre\, de confiance et de reconnexion à soi. \nÀ travers le jeu\, le mouvement et la créativité\, cet atelier propose une exploration douce et ludique de vos émotions afin de : \n✔️ Retrouver confiance en vous\n✔️ Lâcher prise\n✔️ Libérer votre expression\n✔️ Vous reconnecter à ce qui vous fait vibrer\n✔️ Vous offrir une véritable pause pour vous \nAucun prérequis n’est nécessaire : il suffit d’avoir l’envie d’expérimenter\, de s’amuser et de s’accorder un moment privilégié dans un cadre bienveillant. \n📅 Jeudi 27 novembre – 19h à 20h30\n📍 La Maison des Praticiens – Ambarès & Lagrave\n💸 25€ – Places limitées \n👉 Pour vous inscrire\, contactez-nous en message privé.\nNous serons ravis de vous accueillir. \n— \nAtelier animé par Alice Breem Couty\, coach & accompagnante par le théâtre.
URL:https://www.lamaisondespraticiens.fr/evenements/atelier-coaching-theatre-ambares/
LOCATION:La Maison des Praticiens\, 39 rue du président coty\, Ambarès et Lagrave\, 33440\, France
CATEGORIES:Développement personnel
ATTACH;FMTTYPE=image/png:https://www.lamaisondespraticiens.fr/wp-content/uploads/2025/11/la-maison-des-praticiens-centre-de-bien-etre-ambares-et-Lagrave-Capture-decran-2025-11-22-153740.png
ORGANIZER;CN="Alice Breem Couty":MAILTO:alice.breemcouty@outlook.com
END:VEVENT
BEGIN:VEVENT
DTSTART;TZID=Europe/Paris:20251108T100000
DTEND;TZID=Europe/Paris:20251108T110000
DTSTAMP:20260424T213252
CREATED:20250929T095419Z
LAST-MODIFIED:20250929T095419Z
UID:10000305-1762596000-1762599600@www.lamaisondespraticiens.fr
SUMMARY:Séance collective de musicothérapie à Ambarès
DESCRIPTION:Découvrez la puissance de la musique dans une séance collective de musicothérapie.\nLa musique agit sur le sensible\, l’émotionnel et l’affectif. Elle devient un outil de partage et de développement personnel. Cet atelier collectif est une invitation à se laisser porter par les sons\, les rythmes et les vibrations\, pour explorer de nouvelles formes d’expression. \n🎵 Les objectifs de la séance\n\n\nDévelopper l’écoute active et la cohésion de groupe \n\n\nExplorer des sons\, des rythmes et des instruments \n\n\nStimuler la créativité et l’expression personnelle grâce à la musique \n\n\nFavoriser le lâcher-prise et le bien-être \n\n\n🌟 Un déroulement progressif et ludique\n\n\nAccueil et mise en condition : salutation du groupe\, petits jeux de présentation\, échauffement corporel et vocal\, respiration et jeux rythmiques. \n\n\nExploration sonore : découverte libre d’instruments variés\, expériences guidées autour des sons (doux/forts\, rapides/lents)\, créations collectives comme la pluie ou un orage. \n\n\nCréation collective : raconter une histoire uniquement avec des sons et rythmes inventés ensemble. \n\n\nMise en mouvement : danser librement au rythme de la musique pour stimuler le corps et libérer les émotions. \n\n\nClôture en douceur : retour au calme en musique suivi d’un temps de parole pour partager ressentis et impressions. \n\n\n💡 Un espace pour s’exprimer et partager\nCet atelier est accessible à tous\, sans besoin de savoir jouer d’un instrument. L’important est de participer\, d’explorer et de se laisser surprendre. \n📅 Infos pratiques\n\n\nDurée : 1 heure \n\n\nTarif : 11 € \n\n\nParticipants : 8 personnes maximum \n\n\nSur inscription \n\n\nRejoignez-nous pour expérimenter la musicothérapie en groupe et découvrez comment la musique peut transformer vos émotions et renforcer vos liens avec les autres.
URL:https://www.lamaisondespraticiens.fr/evenements/seance-collective-musicotherapie-ambares/2025-11-08/
LOCATION:La Maison des Praticiens\, 39 rue du président coty\, Ambarès et Lagrave\, 33440\, France
CATEGORIES:Développement personnel
ATTACH;FMTTYPE=image/png:https://www.lamaisondespraticiens.fr/wp-content/uploads/2025/09/la-maison-des-praticiens-centre-de-bien-etre-ambares-et-Lagrave-COMPLET-3.png
ORGANIZER;CN="Agn%C3%A8s Chichignoud":MAILTO:achichignoud.musicotherapeute@gmail.com
END:VEVENT
BEGIN:VEVENT
DTSTART;TZID=Europe/Paris:20251026T140000
DTEND;TZID=Europe/Paris:20251026T153000
DTSTAMP:20260424T213252
CREATED:20251015T164318Z
LAST-MODIFIED:20251015T165026Z
UID:10000410-1761487200-1761492600@www.lamaisondespraticiens.fr
SUMMARY:Atelier hypnose – Lâcher-prise et bien-être
DESCRIPTION:🍂 L’automne\, la saison idéale pour le lâcher-prise et la reconnexion à soi.\nEt si vous profitiez de cette période pour libérer les émotions accumulées\, apaiser le mental et recharger votre énergie intérieure ?Je vous propose un atelier d’hypnose thérapeutique à Ambarès\, accessible à tous\, dans un cadre bienveillant et sécurisant. \nCet atelier est une véritable expérience de transformation et de recentrage. Vous découvrirez comment l’hypnose peut devenir un outil simple et puissant pour retrouver équilibre\, clarté et légèreté. \n🧠 Au programme de l’atelier hypnose thérapeutique à Ambarès\n\nUne exploration du fonctionnement de l’esprit : conscient\, inconscient et émotions.\nUne présentation des applications de l’hypnose thérapeutique : gestion du stress\, confiance en soi\, sommeil\, addictions\, équilibre émotionnel\, etc.\nUne séance d’hypnose collective guidée sur le thème : 💫 “Nettoyage émotionnel et reboost intérieur”\n\nCe moment de détente profonde permet de relâcher les tensions\, clarifier le mental et retrouver un sentiment d’alignement intérieur. \nEnfin\, un temps d’échange est prévu pour partager vos ressentis\, poser vos questions et repartir avec des outils concrets de bien-être. \n🌿 Un atelier animé par Amandine Mahot\nThérapeute spécialisée en hypnose thérapeutique depuis plus de 10 ans\, Amandine Mahot accompagne enfants\, adolescents et adultes sur diverses problématiques : \n\nanxiété\,\ngestion du poids\,\nconfiance en soi\,\ntroubles émotionnels\,\naddictions\, et bien plus encore.\n\nCet atelier d’hypnose à Ambarès est avant tout une parenthèse pour soi\, une expérience douce et libératrice pour retrouver vitalité et équilibre intérieur. \n\n Dimanche 26 octobre à 14h Maison des Praticiens – Ambarès-et-Lagrave Tarif : 15 € / Durée : 1h30 Atelier réservé aux adultesPlaces Limitées\, réservation obligatoire
URL:https://www.lamaisondespraticiens.fr/evenements/atelier-hypnose-therapeutique-ambares/
LOCATION:La Maison des Praticiens\, 39 rue du président coty\, Ambarès et Lagrave\, 33440\, France
CATEGORIES:Développement personnel,Hypnose
ATTACH;FMTTYPE=image/jpeg:https://www.lamaisondespraticiens.fr/wp-content/uploads/2025/10/la-maison-des-praticiens-centre-de-bien-etre-ambares-et-Lagrave-564035474_1214978977322482_8452976361898853076_n.jpg
ORGANIZER;CN="Amandine Mahot":MAILTO:therapiehypnose.mahot@gmail.com
END:VEVENT
BEGIN:VEVENT
DTSTART;TZID=Europe/Paris:20251018T143000
DTEND;TZID=Europe/Paris:20251018T151500
DTSTAMP:20260424T213252
CREATED:20250929T094008Z
LAST-MODIFIED:20251122T150607Z
UID:10000298-1760797800-1760800500@www.lamaisondespraticiens.fr
SUMMARY:Atelier relaxation par induction musicale : détente et lâcher-prise
DESCRIPTION:Offrez-vous une pause profonde grâce à la relaxation par induction musicale\, une méthode unique qui utilise la musique comme vecteur de détente physique et mentale.\n🎶 Qu’est-ce que la relaxation par induction musicale ?\nCette technique\, issue de la musicothérapie\, propose un enchaînement structuré de phases musicales pour guider progressivement l’esprit et le corps vers un état de relaxation. Déjà utilisée en institutions (maisons d’accueil spécialisées) et en séances individuelles\, elle est désormais accessible à un plus large public. \n🌿 Le déroulement d’une séance\nUne séance dure environ 45 minutes et se compose de quatre temps forts\, chacun accompagné de musiques soigneusement choisies : \n\n\nPhase d’introduction (≈ 10 minutes) : installer le calme et préparer le corps. \n\n\nPhase neutralisante (5-7 minutes) : apaiser et équilibrer les tensions. \n\n\nPhase de relaxation profonde (≈ 20 minutes) : induire un état de lâcher-prise. \n\n\nPhase de réveil (5-8 minutes) : revenir en douceur à l’état d’éveil. \n\n\nLes participants s’installent allongés ou assis\, sur tapis\, coussins ou fauteuils\, dans une atmosphère sécurisante. Il est conseillé d’apporter un petit coussin et éventuellement un plaid personnel pour plus de confort. \n✨ Objectifs et bienfaits\n\n\nFavoriser le lâcher-prise et réduire le stress \n\n\nInstaller un sentiment de sécurité et de calme \n\n\nInduire un état modifié de conscience\, entre veille et sommeil \n\n\nRalentir le rythme cardiaque et respiratoire \n\n\nDiminuer les tensions physiques et mentales \n\n\n🎵 Les musiques utilisées\nClassique\, sons de la nature\, musiques ambiantes\, fréquences thérapeutiques (432 Hz\, sons binauraux)\, instruments doux (bols tibétains\, flûte amérindienne\, harpe)… Chaque séquence sonore accompagne un état précis de la séance. \nParticiper à cette séance\, c’est s’offrir un moment suspendu\, une immersion sonore et sensorielle qui apaise en profondeur. \nTarif : 10€
URL:https://www.lamaisondespraticiens.fr/evenements/relaxation-induction-musicale-ambares/
LOCATION:La Maison des Praticiens\, 39 rue du président coty\, Ambarès et Lagrave\, 33440\, France
CATEGORIES:Développement personnel
ATTACH;FMTTYPE=image/png:https://www.lamaisondespraticiens.fr/wp-content/uploads/2025/09/la-maison-des-praticiens-centre-de-bien-etre-ambares-et-Lagrave-COMPLET-2.png
ORGANIZER;CN="Agn%C3%A8s Chichignoud":MAILTO:achichignoud.musicotherapeute@gmail.com
END:VEVENT
BEGIN:VEVENT
DTSTART;TZID=Europe/Paris:20251011T100000
DTEND;TZID=Europe/Paris:20251011T110000
DTSTAMP:20260424T213252
CREATED:20250929T095419Z
LAST-MODIFIED:20250929T095419Z
UID:10000304-1760176800-1760180400@www.lamaisondespraticiens.fr
SUMMARY:Séance collective de musicothérapie à Ambarès
DESCRIPTION:Découvrez la puissance de la musique dans une séance collective de musicothérapie.\nLa musique agit sur le sensible\, l’émotionnel et l’affectif. Elle devient un outil de partage et de développement personnel. Cet atelier collectif est une invitation à se laisser porter par les sons\, les rythmes et les vibrations\, pour explorer de nouvelles formes d’expression. \n🎵 Les objectifs de la séance\n\n\nDévelopper l’écoute active et la cohésion de groupe \n\n\nExplorer des sons\, des rythmes et des instruments \n\n\nStimuler la créativité et l’expression personnelle grâce à la musique \n\n\nFavoriser le lâcher-prise et le bien-être \n\n\n🌟 Un déroulement progressif et ludique\n\n\nAccueil et mise en condition : salutation du groupe\, petits jeux de présentation\, échauffement corporel et vocal\, respiration et jeux rythmiques. \n\n\nExploration sonore : découverte libre d’instruments variés\, expériences guidées autour des sons (doux/forts\, rapides/lents)\, créations collectives comme la pluie ou un orage. \n\n\nCréation collective : raconter une histoire uniquement avec des sons et rythmes inventés ensemble. \n\n\nMise en mouvement : danser librement au rythme de la musique pour stimuler le corps et libérer les émotions. \n\n\nClôture en douceur : retour au calme en musique suivi d’un temps de parole pour partager ressentis et impressions. \n\n\n💡 Un espace pour s’exprimer et partager\nCet atelier est accessible à tous\, sans besoin de savoir jouer d’un instrument. L’important est de participer\, d’explorer et de se laisser surprendre. \n📅 Infos pratiques\n\n\nDurée : 1 heure \n\n\nTarif : 11 € \n\n\nParticipants : 8 personnes maximum \n\n\nSur inscription \n\n\nRejoignez-nous pour expérimenter la musicothérapie en groupe et découvrez comment la musique peut transformer vos émotions et renforcer vos liens avec les autres.
URL:https://www.lamaisondespraticiens.fr/evenements/seance-collective-musicotherapie-ambares/2025-10-11/
LOCATION:La Maison des Praticiens\, 39 rue du président coty\, Ambarès et Lagrave\, 33440\, France
CATEGORIES:Développement personnel
ATTACH;FMTTYPE=image/png:https://www.lamaisondespraticiens.fr/wp-content/uploads/2025/09/la-maison-des-praticiens-centre-de-bien-etre-ambares-et-Lagrave-COMPLET-3.png
ORGANIZER;CN="Agn%C3%A8s Chichignoud":MAILTO:achichignoud.musicotherapeute@gmail.com
END:VEVENT
BEGIN:VEVENT
DTSTART;TZID=Europe/Paris:20251004T150000
DTEND;TZID=Europe/Paris:20251004T160000
DTSTAMP:20260424T213252
CREATED:20250923T082644Z
LAST-MODIFIED:20250929T091938Z
UID:10000003-1759590000-1759593600@www.lamaisondespraticiens.fr
SUMMARY:Confiance en Soi Enfants\, Ados (11 à 19 ans)
DESCRIPTION:Atelier découverte : booster la confiance en soi des enfants et adolescents\nUn atelier pour aider vos enfants et adolescents à renforcer leur confiance en eux et à s’épanouir au quotidien.\nLa confiance en soi est une clé essentielle pour avancer sereinement\, s’affirmer et oser. Pourtant\, de nombreux jeunes rencontrent des difficultés : timidité excessive\, peur du regard des autres\, stress avant d’aller à l’école\, trac face aux examens ou aux prises de parole. Certains portent aussi le poids de l’hypersensibilité ou ont traversé des expériences difficiles comme le harcèlement scolaire. Résultat : une boule au ventre qui empêche de profiter pleinement de la vie. \n✨ Les bénéfices attendus\nCet atelier découverte collectif d’une heure propose des outils concrets et accessibles pour : \n\n\ns’exprimer plus librement\, \n\n\nêtre entendu et respecté\, \n\n\nattirer des relations positives\, \n\n\noser vivre pleinement et en confiance. \n\n\n🌱 Un cadre bienveillant et adapté aux jeunes\nAu cours de cette séance\, les participants explorent différentes approches ludiques et pratiques favorisant le lâcher-prise et l’ancrage. Le but est d’apporter un premier coup de pouce pour renforcer l’estime de soi et enclencher un cercle vertueux. \n👥 Et après l’atelier ?\nSelon les besoins\, des suivis complémentaires pourront être proposés : \n\n\nen petits groupes de 6 personnes pour avancer en douceur dans un cadre collectif\, \n\n\nou en accompagnement individuel pour un travail plus personnalisé. \n\n\nCet atelier découverte est une belle opportunité pour vos enfants ou ados de reprendre confiance\, de trouver leur place et de poser les bases d’un épanouissement durable. \n📅 Rejoignez-nous pour ce temps de partage et d’apprentissage. Offrez à vos enfants un véritable coup de pouce pour oser être eux-mêmes !
URL:https://www.lamaisondespraticiens.fr/evenements/atelier-confiance-en-soi-enfants-ados/
LOCATION:La Maison des Praticiens\, 39 rue du président coty\, Ambarès et Lagrave\, 33440\, France
CATEGORIES:Développement personnel
ATTACH;FMTTYPE=image/webp:https://www.lamaisondespraticiens.fr/wp-content/uploads/2025/09/la-maison-des-praticiens-centre-de-bien-etre-ambares-et-Lagrave-93fe26102226482593a779fc9a2f9679.base_.image_-e1758619477223.webp
ORGANIZER;CN="Sylvie Dupin":MAILTO:lalleedesemotions@gmail.com
END:VEVENT
END:VCALENDAR