BEGIN:VCALENDAR
VERSION:2.0
PRODID:-//La Maison des Praticiens - ECPv6.15.17.1//NONSGML v1.0//EN
CALSCALE:GREGORIAN
METHOD:PUBLISH
X-ORIGINAL-URL:https://www.lamaisondespraticiens.fr
X-WR-CALDESC:Évènements pour La Maison des Praticiens
REFRESH-INTERVAL;VALUE=DURATION:PT1H
X-Robots-Tag:noindex
X-PUBLISHED-TTL:PT1H
BEGIN:VTIMEZONE
TZID:Europe/Paris
BEGIN:DAYLIGHT
TZOFFSETFROM:+0100
TZOFFSETTO:+0200
TZNAME:CEST
DTSTART:20240331T010000
END:DAYLIGHT
BEGIN:STANDARD
TZOFFSETFROM:+0200
TZOFFSETTO:+0100
TZNAME:CET
DTSTART:20241027T010000
END:STANDARD
BEGIN:DAYLIGHT
TZOFFSETFROM:+0100
TZOFFSETTO:+0200
TZNAME:CEST
DTSTART:20250330T010000
END:DAYLIGHT
BEGIN:STANDARD
TZOFFSETFROM:+0200
TZOFFSETTO:+0100
TZNAME:CET
DTSTART:20251026T010000
END:STANDARD
BEGIN:DAYLIGHT
TZOFFSETFROM:+0100
TZOFFSETTO:+0200
TZNAME:CEST
DTSTART:20260329T010000
END:DAYLIGHT
BEGIN:STANDARD
TZOFFSETFROM:+0200
TZOFFSETTO:+0100
TZNAME:CET
DTSTART:20261025T010000
END:STANDARD
END:VTIMEZONE
BEGIN:VEVENT
DTSTART;TZID=Europe/Paris:20251011T161500
DTEND;TZID=Europe/Paris:20251011T171500
DTSTAMP:20260425T134206
CREATED:20250926T140652Z
LAST-MODIFIED:20250929T091459Z
UID:10000015-1760199300-1760202900@www.lamaisondespraticiens.fr
SUMMARY:Atelier Parent-Enfant : Fabriquez vos bouteilles sensorielles
DESCRIPTION:Partagez un moment créatif et ludique avec votre enfant lors de notre atelier parent-enfant dédié à la fabrication de bouteilles sensorielles.\nCes objets colorés\, aussi appelés bouteilles de retour au calme\, aident les enfants à gérer leurs émotions et à se recentrer. Faciles à réaliser\, elles éveillent la curiosité sensorielle. Chaque création peut contenir des paillettes\, des perles\, de l’eau colorée ou encore des éléments sonores. Elles attirent l’attention et apaisent l’esprit. \n✨ Un moment de complicité parent-enfant\nCet atelier offre une occasion unique de partager une activité manuelle amusante. Vous stimulez la créativité et l’imagination de votre enfant tout en renforçant vos liens. Vous pouvez l’accompagner à chaque étape ou créer vous-même une bouteille sensorielle pour lui offrir ensuite. \n🎨 Des créations uniques et personnalisées\nGuidés pas à pas\, vous choisissez vos matériaux\, vos couleurs et vos effets. Ainsi\, chaque bouteille devient une création originale. Vous pouvez opter pour une version scintillante remplie de paillettes\, une version relaxante aux liquides colorés ou encore une version sonore pour éveiller l’ouïe. \n🌱 Un outil éducatif et apaisant\nLes bouteilles sensorielles sont de véritables supports pédagogiques. Elles stimulent les sens\, favorisent la concentration et apportent un effet calmant lors des moments d’agitation. Elles sont donc à la fois utiles\, ludiques et faciles à utiliser au quotidien. \nCet atelier parent-enfant est une belle opportunité de découvrir une activité simple et efficace. Vous repartez avec un objet concret qui accompagne le développement émotionnel et sensoriel de votre enfant\, tout en gardant le souvenir d’un moment convivial. \n📅 Informations pratiques\n\n\nTarif : 15 € par famille \n\n\nChaque famille repart avec sa bouteille sensorielle
URL:https://www.lamaisondespraticiens.fr/evenements/atelier-parent-enfant-bouteilles-sensorielles/
LOCATION:La Maison des Praticiens\, 39 rue du président coty\, Ambarès et Lagrave\, 33440\, France
CATEGORIES:Atelier enfant
ATTACH;FMTTYPE=image/webp:https://www.lamaisondespraticiens.fr/wp-content/uploads/2025/09/la-maison-des-praticiens-centre-de-bien-etre-ambares-et-Lagrave-c9bc5ef1b3564bbfa29d5f0cfe4718ca.base_.image_-scaled-e1758895534361.webp
ORGANIZER;CN="Cocon de Bienveillance":MAILTO:cocondebienveillance@gmail.com
END:VEVENT
END:VCALENDAR