BEGIN:VCALENDAR
VERSION:2.0
PRODID:-//La Maison des Praticiens - ECPv6.15.17.1//NONSGML v1.0//EN
CALSCALE:GREGORIAN
METHOD:PUBLISH
X-WR-CALNAME:La Maison des Praticiens
X-ORIGINAL-URL:https://www.lamaisondespraticiens.fr
X-WR-CALDESC:Évènements pour La Maison des Praticiens
REFRESH-INTERVAL;VALUE=DURATION:PT1H
X-Robots-Tag:noindex
X-PUBLISHED-TTL:PT1H
BEGIN:VTIMEZONE
TZID:Europe/Paris
BEGIN:DAYLIGHT
TZOFFSETFROM:+0100
TZOFFSETTO:+0200
TZNAME:CEST
DTSTART:20250330T010000
END:DAYLIGHT
BEGIN:STANDARD
TZOFFSETFROM:+0200
TZOFFSETTO:+0100
TZNAME:CET
DTSTART:20251026T010000
END:STANDARD
BEGIN:DAYLIGHT
TZOFFSETFROM:+0100
TZOFFSETTO:+0200
TZNAME:CEST
DTSTART:20260329T010000
END:DAYLIGHT
BEGIN:STANDARD
TZOFFSETFROM:+0200
TZOFFSETTO:+0100
TZNAME:CET
DTSTART:20261025T010000
END:STANDARD
BEGIN:DAYLIGHT
TZOFFSETFROM:+0100
TZOFFSETTO:+0200
TZNAME:CEST
DTSTART:20270328T010000
END:DAYLIGHT
BEGIN:STANDARD
TZOFFSETFROM:+0200
TZOFFSETTO:+0100
TZNAME:CET
DTSTART:20271031T010000
END:STANDARD
END:VTIMEZONE
BEGIN:VEVENT
DTSTART;TZID=Europe/Paris:20260118T093000
DTEND;TZID=Europe/Paris:20260118T123000
DTSTAMP:20260424T185806
CREATED:20251009T102818Z
LAST-MODIFIED:20251009T140226Z
UID:10000409-1768728600-1768739400@www.lamaisondespraticiens.fr
SUMMARY:Yoga et poterie
DESCRIPTION:Offrez-vous une parenthèse de bien-être et de créativité avec un atelier unique associant yoga et modelage céramique\, à La Maison des Praticiens à Ambarès.\nCet atelier a été conçu pour vous permettre de respirer\, vous détendre et reconnecter votre corps et votre esprit à travers deux pratiques complémentaires : le Yoga Flow et la céramique. \n🧘‍♀️ Une séance de Yoga Flow pour réveiller l’énergie\nLa matinée commencera par une séance d’une heure de Yoga Flow\, une pratique fluide qui favorise la respiration\, l’ancrage et la circulation de l’énergie. Accessible à tous les niveaux\, ce yoga dynamique aide à apaiser le mental\, à relâcher les tensions et à retrouver l’équilibre intérieur. \n🎨 Un atelier de modelage céramique pour exprimer sa créativité\nPlace ensuite à la création avec Marion Grosbois\, céramiste à Bordeaux. Elle vous guidera dans la réalisation d’une petite pièce en argile selon la technique du pincé. Ce moment de modelage invite au lâcher-prise et à l’expression artistique\, tout en restant connecté à vos sensations. Vous pourrez récupérer votre pièce après l’émaillage et la cuisson réalisés par Marion. \n☕ Une pause gourmande et un espace bienveillant\nEntre les deux pratiques\, une collation sucrée faite maison vous sera offerte. L’ambiance cosy et bienveillante de La Maison des Praticiens vous permettra de déconnecter totalement et de savourer ce moment hors du temps. \n📅 Informations pratiques\n\n\nDate : Dimanche 18 janvier\, de 9h30 à 12h30 \n\n\nTarif : 65 € pour 2h30 de déconnexion \n\n\nPlaces limitées à 7 participants \n\n\nLieu : La Maison des Praticiens\, Ambarès-et-Lagrave \n\n\n✨ Venez vivre une expérience sensorielle et apaisante\, entre mouvement\, matière et douceur.
URL:https://www.lamaisondespraticiens.fr/evenements/atelier-yoga-modelage-ceramique-ambares/
LOCATION:La Maison des Praticiens\, 39 rue du président coty\, Ambarès et Lagrave\, 33440\, France
CATEGORIES:Développement personnel,Yoga
ATTACH;FMTTYPE=image/png:https://www.lamaisondespraticiens.fr/wp-content/uploads/2025/10/la-maison-des-praticiens-centre-de-bien-etre-ambares-et-Lagrave-COMPLET-6.png
ORGANIZER;CN="Caroline":MAILTO:leslouves.yoga@gmail.com
END:VEVENT
END:VCALENDAR