BEGIN:VCALENDAR
VERSION:2.0
PRODID:-//La Maison des Praticiens - ECPv6.15.17.1//NONSGML v1.0//EN
CALSCALE:GREGORIAN
METHOD:PUBLISH
X-WR-CALNAME:La Maison des Praticiens
X-ORIGINAL-URL:https://www.lamaisondespraticiens.fr
X-WR-CALDESC:Évènements pour La Maison des Praticiens
REFRESH-INTERVAL;VALUE=DURATION:PT1H
X-Robots-Tag:noindex
X-PUBLISHED-TTL:PT1H
BEGIN:VTIMEZONE
TZID:Europe/Paris
BEGIN:DAYLIGHT
TZOFFSETFROM:+0100
TZOFFSETTO:+0200
TZNAME:CEST
DTSTART:20240331T010000
END:DAYLIGHT
BEGIN:STANDARD
TZOFFSETFROM:+0200
TZOFFSETTO:+0100
TZNAME:CET
DTSTART:20241027T010000
END:STANDARD
BEGIN:DAYLIGHT
TZOFFSETFROM:+0100
TZOFFSETTO:+0200
TZNAME:CEST
DTSTART:20250330T010000
END:DAYLIGHT
BEGIN:STANDARD
TZOFFSETFROM:+0200
TZOFFSETTO:+0100
TZNAME:CET
DTSTART:20251026T010000
END:STANDARD
BEGIN:DAYLIGHT
TZOFFSETFROM:+0100
TZOFFSETTO:+0200
TZNAME:CEST
DTSTART:20260329T010000
END:DAYLIGHT
BEGIN:STANDARD
TZOFFSETFROM:+0200
TZOFFSETTO:+0100
TZNAME:CET
DTSTART:20261025T010000
END:STANDARD
END:VTIMEZONE
BEGIN:VEVENT
DTSTART;TZID=Europe/Paris:20251026T140000
DTEND;TZID=Europe/Paris:20251026T153000
DTSTAMP:20260424T232150
CREATED:20251015T164318Z
LAST-MODIFIED:20251015T165026Z
UID:10000410-1761487200-1761492600@www.lamaisondespraticiens.fr
SUMMARY:Atelier hypnose – Lâcher-prise et bien-être
DESCRIPTION:🍂 L’automne\, la saison idéale pour le lâcher-prise et la reconnexion à soi.\nEt si vous profitiez de cette période pour libérer les émotions accumulées\, apaiser le mental et recharger votre énergie intérieure ?Je vous propose un atelier d’hypnose thérapeutique à Ambarès\, accessible à tous\, dans un cadre bienveillant et sécurisant. \nCet atelier est une véritable expérience de transformation et de recentrage. Vous découvrirez comment l’hypnose peut devenir un outil simple et puissant pour retrouver équilibre\, clarté et légèreté. \n🧠 Au programme de l’atelier hypnose thérapeutique à Ambarès\n\nUne exploration du fonctionnement de l’esprit : conscient\, inconscient et émotions.\nUne présentation des applications de l’hypnose thérapeutique : gestion du stress\, confiance en soi\, sommeil\, addictions\, équilibre émotionnel\, etc.\nUne séance d’hypnose collective guidée sur le thème : 💫 “Nettoyage émotionnel et reboost intérieur”\n\nCe moment de détente profonde permet de relâcher les tensions\, clarifier le mental et retrouver un sentiment d’alignement intérieur. \nEnfin\, un temps d’échange est prévu pour partager vos ressentis\, poser vos questions et repartir avec des outils concrets de bien-être. \n🌿 Un atelier animé par Amandine Mahot\nThérapeute spécialisée en hypnose thérapeutique depuis plus de 10 ans\, Amandine Mahot accompagne enfants\, adolescents et adultes sur diverses problématiques : \n\nanxiété\,\ngestion du poids\,\nconfiance en soi\,\ntroubles émotionnels\,\naddictions\, et bien plus encore.\n\nCet atelier d’hypnose à Ambarès est avant tout une parenthèse pour soi\, une expérience douce et libératrice pour retrouver vitalité et équilibre intérieur. \n\n Dimanche 26 octobre à 14h Maison des Praticiens – Ambarès-et-Lagrave Tarif : 15 € / Durée : 1h30 Atelier réservé aux adultesPlaces Limitées\, réservation obligatoire
URL:https://www.lamaisondespraticiens.fr/evenements/atelier-hypnose-therapeutique-ambares/
LOCATION:La Maison des Praticiens\, 39 rue du président coty\, Ambarès et Lagrave\, 33440\, France
CATEGORIES:Développement personnel,Hypnose
ATTACH;FMTTYPE=image/jpeg:https://www.lamaisondespraticiens.fr/wp-content/uploads/2025/10/la-maison-des-praticiens-centre-de-bien-etre-ambares-et-Lagrave-564035474_1214978977322482_8452976361898853076_n.jpg
ORGANIZER;CN="Amandine Mahot":MAILTO:therapiehypnose.mahot@gmail.com
END:VEVENT
END:VCALENDAR