BEGIN:VCALENDAR
VERSION:2.0
PRODID:-//La Maison des Praticiens - ECPv6.15.17.1//NONSGML v1.0//EN
CALSCALE:GREGORIAN
METHOD:PUBLISH
X-ORIGINAL-URL:https://www.lamaisondespraticiens.fr
X-WR-CALDESC:Évènements pour La Maison des Praticiens
REFRESH-INTERVAL;VALUE=DURATION:PT1H
X-Robots-Tag:noindex
X-PUBLISHED-TTL:PT1H
BEGIN:VTIMEZONE
TZID:Europe/Paris
BEGIN:DAYLIGHT
TZOFFSETFROM:+0100
TZOFFSETTO:+0200
TZNAME:CEST
DTSTART:20240331T010000
END:DAYLIGHT
BEGIN:STANDARD
TZOFFSETFROM:+0200
TZOFFSETTO:+0100
TZNAME:CET
DTSTART:20241027T010000
END:STANDARD
BEGIN:DAYLIGHT
TZOFFSETFROM:+0100
TZOFFSETTO:+0200
TZNAME:CEST
DTSTART:20250330T010000
END:DAYLIGHT
BEGIN:STANDARD
TZOFFSETFROM:+0200
TZOFFSETTO:+0100
TZNAME:CET
DTSTART:20251026T010000
END:STANDARD
BEGIN:DAYLIGHT
TZOFFSETFROM:+0100
TZOFFSETTO:+0200
TZNAME:CEST
DTSTART:20260329T010000
END:DAYLIGHT
BEGIN:STANDARD
TZOFFSETFROM:+0200
TZOFFSETTO:+0100
TZNAME:CET
DTSTART:20261025T010000
END:STANDARD
END:VTIMEZONE
BEGIN:VEVENT
DTSTART;TZID=Europe/Paris:20251015T090000
DTEND;TZID=Europe/Paris:20251015T100000
DTSTAMP:20260424T232608
CREATED:20250923T113455Z
LAST-MODIFIED:20250923T113455Z
UID:10000012-1760518800-1760522400@www.lamaisondespraticiens.fr
SUMMARY:Cours de Qigong tous les mercredis de 9h à 10h
DESCRIPTION:« Le Qigong est une pratique ancestrale chinoise qui combine respiration\, mouvement et méditation pour renforcer le corps et apaiser l’esprit. » \nHarmonie\, Énergie\, Equilibre\, Bien-être\nLittéralement Qigong signifie travail de l’énergie.\nDes enchaînement et des postures sont pratiqués tout au long de l’année pour tonifier le Qi\, le souffle vital. L’ensemble des exercices visent avant tout la détente du corps et de l’esprit.\nA chaque saison\, des exercices spécifiques sont réalisés pour renforcer l’énergie de certains organes selon les principes de la Médecine Traditionnelle Chinoise.\nLa pratique du Qigong permet d’améliorer souplesse\, équilibre\, coordination et apporte une détente générale.\nUn corps détendu et un esprit apaisé favorisent la libre circulation de l’énergie Qi et le renforcement de la santé. \nPratique adaptée à tout âge. \nTarifs : 280€ la saison pour 1 cours / semaine
URL:https://www.lamaisondespraticiens.fr/evenements/cours-de-qigong-4/
LOCATION:La Maison des Praticiens\, 39 rue du président coty\, Ambarès et Lagrave\, 33440\, France
CATEGORIES:Qigong
ATTACH;FMTTYPE=image/webp:https://www.lamaisondespraticiens.fr/wp-content/uploads/2025/09/la-maison-des-praticiens-centre-de-bien-etre-ambares-et-Lagrave-23cb28beba86441e8b6d048b29d4d4b4.base_.image_-e1758621180737.webp
ORGANIZER;CN="Nicolas Trembley":MAILTO:nicolas.trembley@yahoo.com
END:VEVENT
BEGIN:VEVENT
DTSTART;TZID=Europe/Paris:20251015T163000
DTEND;TZID=Europe/Paris:20251015T171500
DTSTAMP:20260424T232608
CREATED:20250929T100103Z
LAST-MODIFIED:20251122T150915Z
UID:10000307-1760545800-1760548500@www.lamaisondespraticiens.fr
SUMMARY:Atelier d’éveil musical enfants 6-9 ans à Ambarès
DESCRIPTION:Votre enfant a entre 6 et 9 ans ? Offrez-lui un moment unique d’éveil musical pour découvrir la musique sous toutes ses formes : voix\, sons\, instruments et mouvements.\n🎵 Pourquoi l’éveil musical ?\nL’éveil musical est une activité ludique et éducative qui stimule la sensibilité musicale des enfants\, développe leur créativité et les aide à s’exprimer autrement que par les mots. C’est aussi un formidable outil d’épanouissement personnel et social. \n🌟 Les bienfaits pour les enfants de 6 à 9 ans\n\n\nManipuler des instruments et développer la motricité fine \n\n\nStimuler l’imagination\, l’écoute et la concentration \n\n\nRenforcer la confiance en soi grâce à la créativité \n\n\nFavoriser la socialisation et l’entraide par le jeu collectif \n\n\nAffiner la perception des sons\, des rythmes et des hauteurs \n\n\nAméliorer la mémoire et l’attention à travers comptines et rythmes \n\n\nEncourager l’expression corporelle et émotionnelle \n\n\nPréparer à un futur apprentissage structuré (instrument\, solfège) \n\n\n🪘 Une séance vivante et variée\nChaque atelier combine des instruments de musique\, des comptines chantées ou parlées\, des histoires sonores et des jeux rythmiques. Les enfants découvrent aussi un instrument mis en lumière et apprennent à s’exprimer librement à travers la musique et le mouvement. \n👩‍🎤 Une approche professionnelle et bienveillante\nAnimé par une musicothérapeute expérimentée en crèches et structures enfance\, cet atelier propose un cadre joyeux et rassurant\, où chaque enfant peut expérimenter\, partager et s’amuser. \n✨ Un moment pour s’ouvrir à la musique et à soi\nAu-delà des apprentissages\, ces séances d’éveil musical sont surtout une expérience ludique et joyeuse\, qui laisse un souvenir positif et motivant. \n📅 Rejoignez-nous à La Maison des Praticiens et offrez à votre enfant une véritable aventure musicale adaptée à son âge. \nSur inscription\, 10 enfants max\, 45 minutes pour 11 euros
URL:https://www.lamaisondespraticiens.fr/evenements/atelier-eveil-musical-enfants-6-9-ans-ambares/
LOCATION:La Maison des Praticiens\, 39 rue du président coty\, Ambarès et Lagrave\, 33440\, France
CATEGORIES:Atelier enfant
ATTACH;FMTTYPE=image/png:https://www.lamaisondespraticiens.fr/wp-content/uploads/2025/09/la-maison-des-praticiens-centre-de-bien-etre-ambares-et-Lagrave-COMPLET-4.png
ORGANIZER;CN="Agn%C3%A8s Chichignoud":MAILTO:achichignoud.musicotherapeute@gmail.com
END:VEVENT
END:VCALENDAR